BEGIN:VCALENDAR
VERSION:2.0
PRODID:-//Stockholms nation - ECPv6.11.0.1//NONSGML v1.0//EN
CALSCALE:GREGORIAN
METHOD:PUBLISH
X-ORIGINAL-URL:https://stockholmsnation.se
X-WR-CALDESC:Events for Stockholms nation
REFRESH-INTERVAL;VALUE=DURATION:PT1H
X-Robots-Tag:noindex
X-PUBLISHED-TTL:PT1H
BEGIN:VTIMEZONE
TZID:Europe/Stockholm
BEGIN:DAYLIGHT
TZOFFSETFROM:+0100
TZOFFSETTO:+0200
TZNAME:CEST
DTSTART:20250330T010000
END:DAYLIGHT
BEGIN:STANDARD
TZOFFSETFROM:+0200
TZOFFSETTO:+0100
TZNAME:CET
DTSTART:20251026T010000
END:STANDARD
END:VTIMEZONE
BEGIN:VEVENT
DTSTART;TZID=Europe/Stockholm:20250501T160000
DTEND;TZID=Europe/Stockholm:20250501T220000
DTSTAMP:20260422T121105
CREATED:20250403T051802Z
LAST-MODIFIED:20250407T101818Z
UID:15873-1746115200-1746136800@stockholmsnation.se
SUMMARY:Majmiddagen 2025
DESCRIPTION:Du är härmed inbjuden till Majmiddagen – en oförglömlig kväll på Stockholms nations mest traditionsenliga sittning!Kvällen bjuder på ett flertal traditioner\, såsom ett besök hos nationsgraven och ett framförande av ett av de äldsta studentspexen Rudolf\, ett spex som första gången sattes upp år 1853.Majmiddagen är en unik upplevelse och ett eminent avslut på valborgsfirandet\, en kväll du inte vill missa!Boka in den 1 maj i almanackan så ses vi där!\n\nPris: 485 krTid: 16dkKlädsel: Kavaj med studentmössa\n\nBiljetter till Majmiddagen säljes med start 14 april för Seniorer och Ämbetsmän hos 1Q.För medlemmar och icke medlemmar på Stockholms nation:Biljetter (i mån av plats) till Majmiddagen kan köpas hos 1Q under mottagningstiderna med start den 21/4:Mån 14-16Tis 14-16Ons 14-16Tors 14-16Fre 14-16**************************************************************You are hereby invited to this year’s grand party – Majmiddagen!The Majmiddag is Stockholm Nation’s most traditional dinner and during the evening you’ll get to experience a couple of the old traditions of the nation.Make sure you’re available May 1st! The Majmiddag is a regular gasque on a irregular day. It’s a great finish of a great Valborg weekend!\n\nPrice: SEK 485Time: 16dkDresscode: Suit (Semiformal) with student cap\n\nTickets to the Majmiddag are sold at the 1Q’s office with the start date 14th of April. Seniors and Ämbetsmän have until the 20th of April to buy a ticket\, if we have tickets left\, we will sell them to members and non members starting on April 21th.Mån 14-16Tis 14-16Ons 14-16Tors 14-16Fre 14-16
URL:https://stockholmsnation.se/evenemang/majmiddag/
LOCATION:Stockholms Nation\, Drottninggatan 11\, Uppsala\, 753 10\, Sweden
ATTACH;FMTTYPE=image/jpeg:https://stockholmsnation.se/wp-content/uploads/2025/04/majmiddagen-2025.jpg
ORGANIZER;CN="Stockholms nation":MAILTO:1q@stockholms.se
END:VEVENT
BEGIN:VEVENT
DTSTART;TZID=Europe/Stockholm:20250512T073000
DTEND;TZID=Europe/Stockholm:20250512T100000
DTSTAMP:20260422T121105
CREATED:20250511T212858Z
LAST-MODIFIED:20250511T212858Z
UID:16169-1747035000-1747044000@stockholmsnation.se
SUMMARY:Frukost på Stockholms nation
DESCRIPTION:Varje vardag serverar vi på Stockholms nation nationsvärldens bästa och garanterat mysigaste frukost. Vi erbjuder en frukostbuffé ett brett utbud. Vi har laktos- och glutenfria alternativ. Det är helt enkelt den perfekta starten på dagen och ett bra ställe att träffa seminariegruppen eller dina vänner innan dagens föreläsningar börjar. \nÖppettider: 7:30-10:00 \nPris: 60 kr
URL:https://stockholmsnation.se/evenemang/frukost-pa-stockholms-nation/2025-05-12/
LOCATION:Stockholms Nation\, Drottninggatan 11\, Uppsala\, 753 10\, Sweden
ATTACH;FMTTYPE=image/jpeg:https://stockholmsnation.se/wp-content/uploads/2025/05/2-300x300-1.jpg
ORGANIZER;CN="Stockholms nation":MAILTO:1q@stockholms.se
END:VEVENT
BEGIN:VEVENT
DTSTART;TZID=Europe/Stockholm:20250512T113000
DTEND;TZID=Europe/Stockholm:20250512T131500
DTSTAMP:20260422T121105
CREATED:20250511T212702Z
LAST-MODIFIED:20250511T212702Z
UID:16166-1747049400-1747055700@stockholmsnation.se
SUMMARY:Lunch på Stockholms nation
DESCRIPTION:Välkommen att njuta av en skön paus i vårt fina hus eller på vår soliga uteservering. På vardagar serverar vi god och prisvärd lunch mellan klockan 11.30 till 13.15. Vi erbjuder två hemlagade rätter\, alltifrån svensk husmanskost till kryddig kikärtsgryta. Vi har också en stor salladsbuffé om du är sugen på något lite lättare. Valfri dricka\, nybakat bröd\, kaffe och kaka ingår. Följ oss på Instagram eller Facebook @stockholmsnation för att se dagens lunchmeny! \nÖppettider: 11:30-13:15 \nPris: 60 kr
URL:https://stockholmsnation.se/evenemang/lunch-pa-stockholms-nation/2025-05-12/
LOCATION:Stockholms Nation\, Drottninggatan 11\, Uppsala\, 753 10\, Sweden
ATTACH;FMTTYPE=image/jpeg:https://stockholmsnation.se/wp-content/uploads/2025/05/13-300x300-1.jpg
ORGANIZER;CN="Stockholms nation":MAILTO:1q@stockholms.se
END:VEVENT
END:VCALENDAR